BEGIN:VCALENDAR
VERSION:2.0
PRODID:-//Library Market//iCal Export//EN
BEGIN:VEVENT
SUMMARY:Toddler Toy Bin
UID:10697
DTSTAMP:20260422T015900Z
DTSTART:20260716T130000Z
DTEND:20260716T143000Z
LOCATION:49 Spring Street, Auburn, ME 04210, United States
ROOM: Children&#039;s Room
DESCRIPTION:We&#039;ll provide a selection of toddler-friendly toys, allow
 ing you to have a fun morning out and to make new friends in your communit
 y.
URL:https://www.auburnpubliclibrary.org/event/toddler-toy-bin-10697
END:VEVENT
END:VCALENDAR
