BEGIN:VCALENDAR
VERSION:2.0
PRODID:-//Library Market//iCal Export//EN
BEGIN:VEVENT
SUMMARY:Dungeons &amp; Dragons
UID:9671
DTSTAMP:20260421T112600Z
DTSTART:20260715T190000Z
DTEND:20260715T210000Z
LOCATION:49 Spring Street, Auburn, ME 04210, United States
ROOM: Teen Space
DESCRIPTION:Join us for a D&amp;D adventure in a fantasy world! Open to be
 ginners and experienced players alike. Come with a character sheet (5th ed
 ition, level 3) or use one that we provide.  Registration is required fo
 r this program.
URL:https://www.auburnpubliclibrary.org/event/dungeons-dragons-9671
END:VEVENT
END:VCALENDAR
